BEGIN:VCALENDAR
VERSION:2.0
PRODID:-//Rock Island Arsenal Historical Society - ECPv6.6.4.2//NONSGML v1.0//EN
CALSCALE:GREGORIAN
METHOD:PUBLISH
X-WR-CALNAME:Rock Island Arsenal Historical Society
X-ORIGINAL-URL:https://arsenalhistoricalsociety.org
X-WR-CALDESC:Events for Rock Island Arsenal Historical Society
REFRESH-INTERVAL;VALUE=DURATION:PT1H
X-Robots-Tag:noindex
X-PUBLISHED-TTL:PT1H
BEGIN:VTIMEZONE
TZID:America/Chicago
BEGIN:DAYLIGHT
TZOFFSETFROM:-0600
TZOFFSETTO:-0500
TZNAME:CDT
DTSTART:20260308T080000
END:DAYLIGHT
BEGIN:STANDARD
TZOFFSETFROM:-0500
TZOFFSETTO:-0600
TZNAME:CST
DTSTART:20261101T070000
END:STANDARD
END:VTIMEZONE
BEGIN:VEVENT
DTSTART;TZID=America/Chicago:20260217T120000
DTEND;TZID=America/Chicago:20260217T130000
DTSTAMP:20260424T092651
CREATED:20260130T220341Z
LAST-MODIFIED:20260131T012034Z
UID:255079-1771329600-1771333200@arsenalhistoricalsociety.org
SUMMARY:America 250 - Colonialism
DESCRIPTION:Join us as we explore the early history of our nation through the Army Sustainment Command’s “American 250” program series. \n\nAll programs will be in the Museum’s classroom. Feel free to bring your lunch.
URL:https://arsenalhistoricalsociety.org/events/america-250-colonialism/
LOCATION:Rock Island Arsenal Museum\, 1 Rock Island Arsenal Bldg. 60 – 3500 North Ave.\, Rock Island\, IL\, 61299\, United States
CATEGORIES:Rock Island Arsenal Museum
ATTACH;FMTTYPE=image/png:https://arsenalhistoricalsociety.org/wp-content/uploads/Colonialism-Talk.png
END:VEVENT
END:VCALENDAR